BEGIN:VCALENDAR
VERSION:2.0
PRODID:-//wp-events-plugin.com//7.1.7//EN
TZID:America/Los_Angeles
X-WR-TIMEZONE:America/Los_Angeles
BEGIN:VEVENT
UID:32@junginoc.org
DTSTART;TZID=America/Los_Angeles:20210411T160000
DTEND;TZID=America/Los_Angeles:20210411T180000
DTSTAMP:20240825T052442Z
URL:https://junginoc.org/events/2021-04-11-parker/
SUMMARY:A Story of Heart\, Soul and Stones
DESCRIPTION:A Story of Heart\, Soul and Stones\n\nPresented by Stephen Park
 er\, PhD\n\nlink to video\n\nSunday\, April 11\, 2021\, 4:00 - 6:00 pm PDT
 \n\nThis will be a visual presentation of the long journey of transformati
 on of the psyche after a severe heart attack. Material will include a seri
 es of dreams\, paintings and stone work\, combined with Jungian and alchem
 ical references.\n\nLearning objectives:\n\nUnderstand the basic symbols o
 f transformation.\n\nIdentify the basic alchemical stages of transformatio
 n.\n\nBecome familiar with the symbolism of stones\, including the Philoso
 pher’s Stone​.\n\nStephen Parker\, PhD\, is a Jungian psychologist who
  has lived and worked in the archetypal landscape of Alaska for forty year
 s. He and his partner - Kornelia Grabinska. a Jungian analyst - have run a
  Jungian bookstore and sandplay store and founded the C.G. Jung Society of
  Northern Alaska. He has had three solo art shows. His story and work with
  stones was featured in the article “Opening the Heart: An Interview wit
 h Steve Parker” by Robert Henderson in Psychological Perspectives\, 60:2
 \, pp. 196-206 (June 2017). He is the author of the e-book Heart Attack an
 d Soul and has run www.jungcurrents.com for many years.\n\nVisit Stephen P
 arker's website\n\nHeart Attack and Soul excerpts\n\nPurchase Heart Attack
  and Soul (Kindle)
ATTACH;FMTTYPE=image/jpeg:https://junginoc.org/wp-content/uploads/2024/02/
 2efa49_990a086675694638abde98a12d4af389mv2.jpeg
END:VEVENT
BEGIN:VTIMEZONE
TZID:America/Los_Angeles
X-LIC-LOCATION:America/Los_Angeles
BEGIN:DAYLIGHT
DTSTART:20210314T030000
TZOFFSETFROM:-0800
TZOFFSETTO:-0700
TZNAME:PDT
END:DAYLIGHT
END:VTIMEZONE
END:VCALENDAR