BEGIN:VCALENDAR
VERSION:2.0
PRODID:-//wp-events-plugin.com//7.1.7//EN
TZID:America/Los_Angeles
X-WR-TIMEZONE:America/Los_Angeles
BEGIN:VEVENT
UID:48@junginoc.org
DTSTART;TZID=America/Los_Angeles:20190505T160000
DTEND;TZID=America/Los_Angeles:20190505T180000
DTSTAMP:20240823T021756Z
URL:https://junginoc.org/events/2019-05-05-shepard/
SUMMARY:Katie Sanford's Unique Envisioning of the Transcendent Function
DESCRIPTION:Katie Sanford\, who presented several programs to our Club over
  the years\, died in 2017 at the age of 100.  In the early 1950s she was 
 a patient of Carl Jung’s and also studied at the C.G. Jung Institute in 
 Zurich\; in 1978 she was certified as a Jungian Analyst at the C. G. Jung 
 Institute in Los Angeles.  Jung considered the “transcendent” or reli
 gious function to be one of the human spirit’s most powerful drives.  K
 atie often said that the years after she became a Jungian analyst\, at age
  60\, when she "regained her religious outlook\,” were the most fulfilli
 ng and rewarding years of her life. In this program\, including film of Ka
 tie and slides of her work\, we’ll be looking at how Katie’s 62 painti
 ngs\, done over a 30-year period\, reveal her myth-seeking individuation j
 ourney\, while also providing insights into an emerging collective feminin
 e mythos.  \nCourse objectives:\n\n\n 	\nExplore the psyche’s need for
  development of the transcendent or religious function\n\n 	\nUnderstand t
 he basic principles by which our personal and collective psyches are invol
 ved in the process of myth-making\n\n 	\nView the progression of Katie San
 ford’s paintings over thirty years as an example of a text of individuat
 ion leading to an emerging collective feminine mythos\n\n\n​​David She
 pard spent many hours over many years conversing with and filming Katie S
 anford.  He has over 35 years of experience as a professional astrologer 
 and was the chief writer-editor from 1990-2008 for Starscroll\, the most w
 idely read astrology magazine in the world.  Prior to this\, he worked as
  an art therapist exploring the connections between astrology\, creativity
  and various illnesses.  He is a graduate of UCLA with a degree in Physic
 s. He has a particular gift for illuminating how the archetypal symbolism 
 in myth and astrology applies to our human experience and creative express
 ions throughout history and all cultures.
ATTACH;FMTTYPE=image/jpeg:https://junginoc.org/wp-content/uploads/2024/02/
 fullsizeoutput_6e7.jpeg
END:VEVENT
BEGIN:VTIMEZONE
TZID:America/Los_Angeles
X-LIC-LOCATION:America/Los_Angeles
BEGIN:DAYLIGHT
DTSTART:20190310T030000
TZOFFSETFROM:-0800
TZOFFSETTO:-0700
TZNAME:PDT
END:DAYLIGHT
END:VTIMEZONE
END:VCALENDAR